BEGIN:VCALENDAR
VERSION:2.0
PRODID:-//hacksw/handcal//NONSGML v1.0//EN
CALSCALE:GREGORIAN
BEGIN:VTIMEZONE
TZID:W. Europe Standard Time
BEGIN:STANDARD
DTSTART:16010101T030000
TZOFFSETFROM:+0200
TZOFFSETTO:+0100
RRULE:FREQ=YEARLY;INTERVAL=1;BYDAY=-1SU;BYMONTH=10
END:STANDARD
BEGIN:DAYLIGHT
DTSTART:16010101T020000
TZOFFSETFROM:+0100
TZOFFSETTO:+0200
RRULE:FREQ=YEARLY;INTERVAL=1;BYDAY=-1SU;BYMONTH=3
END:DAYLIGHT
END:VTIMEZONE
BEGIN:VEVENT
DTEND;TZID=W. Europe Standard Time:20170921T153000
UID:69e752d689ef0
DTSTAMP:20260421T103502Z
LOCATION:
DESCRIPTION:GBF arrangerar studieresa till Bo- och Samhällsexpo den 21-22 
 september 2017. Välkommen!
 
URL;VALUE=URI:https://www.gbgbf.se/aktiviteter/studiebesok-vallastaden-link
 oping/
SUMMARY:Res till framtiden – se Vallastaden i Linköping
DTSTART;TZID=W. Europe Standard Time:20170921T073000
END:VEVENT
END:VCALENDAR
