BEGIN:VCALENDAR
VERSION:2.0
PRODID:-//hacksw/handcal//NONSGML v1.0//EN
CALSCALE:GREGORIAN
BEGIN:VTIMEZONE
TZID:W. Europe Standard Time
BEGIN:STANDARD
DTSTART:16010101T030000
TZOFFSETFROM:+0200
TZOFFSETTO:+0100
RRULE:FREQ=YEARLY;INTERVAL=1;BYDAY=-1SU;BYMONTH=10
END:STANDARD
BEGIN:DAYLIGHT
DTSTART:16010101T020000
TZOFFSETFROM:+0100
TZOFFSETTO:+0200
RRULE:FREQ=YEARLY;INTERVAL=1;BYDAY=-1SU;BYMONTH=3
END:DAYLIGHT
END:VTIMEZONE
BEGIN:VEVENT
DTEND;TZID=W. Europe Standard Time:20170615T160000
UID:69e75344ee366
DTSTAMP:20260421T103652Z
LOCATION:Ekmansgatan 1\, Göteborg
DESCRIPTION:Nutida byggprojekt är ofta stora\, allt fler intressenter mås
 te hanteras och kraven blir fler och mer komplexa. Samtidigt ställs krav 
 på ökad effektivitet i samhällsbyggnadssektorn\, stärkt innovationskra
 ft\, samt gränsöverskridande samverkan.
 
URL;VALUE=URI:https://www.gbgbf.se/aktiviteter/arbetsklimat-och-personalbri
 st-pavarkar-den-psykiska-halsan/
SUMMARY:Arbetsklimat och personalbrist påverkar den psykiska hälsan
DTSTART;TZID=W. Europe Standard Time:20170615T143000
END:VEVENT
END:VCALENDAR
