BEGIN:VCALENDAR
VERSION:2.0
PRODID:-//hacksw/handcal//NONSGML v1.0//EN
CALSCALE:GREGORIAN
BEGIN:VTIMEZONE
TZID:W. Europe Standard Time
BEGIN:STANDARD
DTSTART:16010101T030000
TZOFFSETFROM:+0200
TZOFFSETTO:+0100
RRULE:FREQ=YEARLY;INTERVAL=1;BYDAY=-1SU;BYMONTH=10
END:STANDARD
BEGIN:DAYLIGHT
DTSTART:16010101T020000
TZOFFSETFROM:+0100
TZOFFSETTO:+0200
RRULE:FREQ=YEARLY;INTERVAL=1;BYDAY=-1SU;BYMONTH=3
END:DAYLIGHT
END:VTIMEZONE
BEGIN:VEVENT
DTEND;TZID=W. Europe Standard Time:20170607T163000
UID:69e7518f14f6f
DTSTAMP:20260421T102935Z
LOCATION:Askims församlingshem\, Skalldalsvägen 1\, Hovås
DESCRIPTION:Askims församlings lokaler har tidigare varit utspridda på fl
 era platser i stadsdelen\, men i och med det nya församlingshemmet lyckas
  man samla alla verksamheter under ett och samma tak. Passa på att få en
  unik presentation samt tillhörande rundvandring under ledning av represe
 ntanter från Ivar Kjellberg Byggnads AB.
 
URL;VALUE=URI:https://www.gbgbf.se/aktiviteter/askims-nya-landmarke-ett-for
 samlingshem/
SUMMARY:Askims nya landmärke – ett församlingshem
DTSTART;TZID=W. Europe Standard Time:20170607T143000
END:VEVENT
END:VCALENDAR
