BEGIN:VCALENDAR
VERSION:2.0
PRODID:-//hacksw/handcal//NONSGML v1.0//EN
CALSCALE:GREGORIAN
BEGIN:VTIMEZONE
TZID:W. Europe Standard Time
BEGIN:STANDARD
DTSTART:16010101T030000
TZOFFSETFROM:+0200
TZOFFSETTO:+0100
RRULE:FREQ=YEARLY;INTERVAL=1;BYDAY=-1SU;BYMONTH=10
END:STANDARD
BEGIN:DAYLIGHT
DTSTART:16010101T020000
TZOFFSETFROM:+0100
TZOFFSETTO:+0200
RRULE:FREQ=YEARLY;INTERVAL=1;BYDAY=-1SU;BYMONTH=3
END:DAYLIGHT
END:VTIMEZONE
BEGIN:VEVENT
DTEND;TZID=W. Europe Standard Time:20170530T210000
UID:69e752a84fce3
DTSTAMP:20260421T103416Z
LOCATION:Stenpiren\, Göteborg
DESCRIPTION:Göteborgs Byggmästareförening bjuder i samarbete med Sverige
 s Byggindustrier region Väst in till en kvällstur med ångaren Bohuslän
  för byggelever på yrkeshögskolan\, deras handledare och övriga bransc
 hrepresentanter.
 
URL;VALUE=URI:https://www.gbgbf.se/aktiviteter/mingeltraff-angaren-bohuslan
 /
SUMMARY:Mingelträff: Ångaren Bohuslän
DTSTART;TZID=W. Europe Standard Time:20170530T174500
END:VEVENT
END:VCALENDAR
