BEGIN:VCALENDAR
VERSION:2.0
PRODID:-//hacksw/handcal//NONSGML v1.0//EN
CALSCALE:GREGORIAN
BEGIN:VTIMEZONE
TZID:W. Europe Standard Time
BEGIN:STANDARD
DTSTART:16010101T030000
TZOFFSETFROM:+0200
TZOFFSETTO:+0100
RRULE:FREQ=YEARLY;INTERVAL=1;BYDAY=-1SU;BYMONTH=10
END:STANDARD
BEGIN:DAYLIGHT
DTSTART:16010101T020000
TZOFFSETFROM:+0100
TZOFFSETTO:+0200
RRULE:FREQ=YEARLY;INTERVAL=1;BYDAY=-1SU;BYMONTH=3
END:DAYLIGHT
END:VTIMEZONE
BEGIN:VEVENT
DTEND;TZID=W. Europe Standard Time:20170921T173000
UID:69e7525525ed2
DTSTAMP:20260421T103253Z
LOCATION:Ekmansgatan 1\, Göteborg
DESCRIPTION:Sveriges Byggindustrier bjuder in till leverantörsmässa i Byg
 garnas Hus. Den 21 september har du och dina kollegor möjlighet att trä
 ffa de flesta av de leverantörer som BI har inköpsavtal med. Kom\, mingl
 a\, knyt kontakter\, gör affärer\, vinn priser och få en liten matbit i
  all enkelhet med kollegerna i branschen.
 
URL;VALUE=URI:https://www.gbgbf.se/aktiviteter/minimassa-pa-ekmansgatan/
SUMMARY:GBF rekommenderar: Minimässa på Ekmansgatan
DTSTART;TZID=W. Europe Standard Time:20170921T140000
END:VEVENT
END:VCALENDAR
