BEGIN:VCALENDAR
VERSION:2.0
PRODID:-//hacksw/handcal//NONSGML v1.0//EN
CALSCALE:GREGORIAN
BEGIN:VTIMEZONE
TZID:W. Europe Standard Time
BEGIN:STANDARD
DTSTART:16010101T030000
TZOFFSETFROM:+0200
TZOFFSETTO:+0100
RRULE:FREQ=YEARLY;INTERVAL=1;BYDAY=-1SU;BYMONTH=10
END:STANDARD
BEGIN:DAYLIGHT
DTSTART:16010101T020000
TZOFFSETFROM:+0100
TZOFFSETTO:+0200
RRULE:FREQ=YEARLY;INTERVAL=1;BYDAY=-1SU;BYMONTH=3
END:DAYLIGHT
END:VTIMEZONE
BEGIN:VEVENT
DTEND;TZID=W. Europe Standard Time:20210309T120000
UID:69e751d87e97b
DTSTAMP:20260421T103048Z
LOCATION:Teams – länk skickas ut till deltagarna
DESCRIPTION:Välkommen till ett webbsänt seminarium med presentation av st
 udien ”Markanvisningar i Göteborgsregionen 2016-2019” som företaget 
 Sharing Capabilities har genomfört på uppdrag av Byggföretagen Väst oc
 h Göteborgs Byggmästareförening.
 
URL;VALUE=URI:https://www.gbgbf.se/aktiviteter/hur-fungerar-marktilldelning
 en-inom-goteborgsregionen/
SUMMARY:Hur fungerar marktilldelningen inom Göteborgsregionen?
DTSTART;TZID=W. Europe Standard Time:20210309T110000
END:VEVENT
END:VCALENDAR
