BEGIN:VCALENDAR
VERSION:2.0
PRODID:-//hacksw/handcal//NONSGML v1.0//EN
CALSCALE:GREGORIAN
BEGIN:VTIMEZONE
TZID:W. Europe Standard Time
BEGIN:STANDARD
DTSTART:16010101T030000
TZOFFSETFROM:+0200
TZOFFSETTO:+0100
RRULE:FREQ=YEARLY;INTERVAL=1;BYDAY=-1SU;BYMONTH=10
END:STANDARD
BEGIN:DAYLIGHT
DTSTART:16010101T020000
TZOFFSETFROM:+0100
TZOFFSETTO:+0200
RRULE:FREQ=YEARLY;INTERVAL=1;BYDAY=-1SU;BYMONTH=3
END:DAYLIGHT
END:VTIMEZONE
BEGIN:VEVENT
DTEND;TZID=W. Europe Standard Time:20201105T210000
UID:69e7518f10c94
DTSTAMP:20260421T102935Z
LOCATION:Ekmansgatan 1\, Göteborg
DESCRIPTION:Vi har nöjet att bjuda in till redovisning av stipendiearbeten
 a och middag den 5 november klockan 17 på Ekmansgatan. Vi har på grund a
 v rådande rekommendationer tvingats begränsa deltagarantalet och därfö
 r valt ut föreningens styrelse\, stipendiekommittén och årets stipendia
 ter.
 
URL;VALUE=URI:https://www.gbgbf.se/aktiviteter/inbjudan-till-fordrojda-vark
 anslor/
SUMMARY:Inbjudan till fördröjda vårkänslor
DTSTART;TZID=W. Europe Standard Time:20201105T170000
END:VEVENT
END:VCALENDAR
