BEGIN:VCALENDAR
VERSION:2.0
PRODID:-//hacksw/handcal//NONSGML v1.0//EN
CALSCALE:GREGORIAN
BEGIN:VTIMEZONE
TZID:W. Europe Standard Time
BEGIN:STANDARD
DTSTART:16010101T030000
TZOFFSETFROM:+0200
TZOFFSETTO:+0100
RRULE:FREQ=YEARLY;INTERVAL=1;BYDAY=-1SU;BYMONTH=10
END:STANDARD
BEGIN:DAYLIGHT
DTSTART:16010101T020000
TZOFFSETFROM:+0100
TZOFFSETTO:+0200
RRULE:FREQ=YEARLY;INTERVAL=1;BYDAY=-1SU;BYMONTH=3
END:DAYLIGHT
END:VTIMEZONE
BEGIN:VEVENT
DTEND;TZID=W. Europe Standard Time:20201022T153000
UID:69e75368afb7a
DTSTAMP:20260421T103728Z
LOCATION:Samling Råda Rum\, Kyrkvägen 45\, Mölnlycke
DESCRIPTION:Välkommen på studiebesök med på Säteriet i Mölnlycke – 
 ett bostadsområde med drygt 730 lägenheter som ursprungligen uppfördes 
 under åren 1969-1971. Området har nu fått sig en ”make over” – b
 åde inne och ute. Förbo delar gärna med sig av sina erfarenheter\, exe
 mpelvis när det gäller planprocessen\, kommunikationen\, omdaningen\, ny
 produktionen och framtiden – ja\, helt enkelt om hur Förbo önskat skap
 a ett modernt\, hållbart och inbjudande bostadsområde.
 
URL;VALUE=URI:https://www.gbgbf.se/aktiviteter/sateriet-i-molnlycke/
SUMMARY:Säteriet i Mölnlycke – ett inspirerande studiebesök
DTSTART;TZID=W. Europe Standard Time:20201022T133000
END:VEVENT
END:VCALENDAR
