BEGIN:VCALENDAR
VERSION:2.0
PRODID:-//hacksw/handcal//NONSGML v1.0//EN
CALSCALE:GREGORIAN
BEGIN:VTIMEZONE
TZID:W. Europe Standard Time
BEGIN:STANDARD
DTSTART:16010101T030000
TZOFFSETFROM:+0200
TZOFFSETTO:+0100
RRULE:FREQ=YEARLY;INTERVAL=1;BYDAY=-1SU;BYMONTH=10
END:STANDARD
BEGIN:DAYLIGHT
DTSTART:16010101T020000
TZOFFSETFROM:+0100
TZOFFSETTO:+0200
RRULE:FREQ=YEARLY;INTERVAL=1;BYDAY=-1SU;BYMONTH=3
END:DAYLIGHT
END:VTIMEZONE
BEGIN:VEVENT
DTEND;TZID=W. Europe Standard Time:20200616T160000
UID:69e75221372f6
DTSTAMP:20260421T103201Z
LOCATION:
DESCRIPTION:
URL;VALUE=URI:https://www.gbgbf.se/aktiviteter/vi-haller-i-haller-ut-haller
 -avstand-och-haller-tummarna/
SUMMARY:Vi håller i\, håller ut\, håller avstånd och håller tummarna 
 …
DTSTART;TZID=W. Europe Standard Time:20200616T143000
END:VEVENT
END:VCALENDAR
