BEGIN:VCALENDAR
VERSION:2.0
PRODID:-//hacksw/handcal//NONSGML v1.0//EN
CALSCALE:GREGORIAN
BEGIN:VTIMEZONE
TZID:W. Europe Standard Time
BEGIN:STANDARD
DTSTART:16010101T030000
TZOFFSETFROM:+0200
TZOFFSETTO:+0100
RRULE:FREQ=YEARLY;INTERVAL=1;BYDAY=-1SU;BYMONTH=10
END:STANDARD
BEGIN:DAYLIGHT
DTSTART:16010101T020000
TZOFFSETFROM:+0100
TZOFFSETTO:+0200
RRULE:FREQ=YEARLY;INTERVAL=1;BYDAY=-1SU;BYMONTH=3
END:DAYLIGHT
END:VTIMEZONE
BEGIN:VEVENT
DTEND;TZID=W. Europe Standard Time:20180404T160000
UID:69e75358866f8
DTSTAMP:20260421T103712Z
LOCATION:Ekmansgatan 1\, Göteborg
DESCRIPTION:Missa inte detta viktiga och högaktuella seminarium om bostads
 byggandet i Göteborg.
 
URL;VALUE=URI:https://www.gbgbf.se/aktiviteter/bostad2021-deadline-king/
SUMMARY:BoStad2021 – Deadline is king och andra lärdomar så här långt
DTSTART;TZID=W. Europe Standard Time:20180404T144500
END:VEVENT
END:VCALENDAR
