BEGIN:VCALENDAR
VERSION:2.0
PRODID:-//hacksw/handcal//NONSGML v1.0//EN
CALSCALE:GREGORIAN
BEGIN:VTIMEZONE
TZID:W. Europe Standard Time
BEGIN:STANDARD
DTSTART:16010101T030000
TZOFFSETFROM:+0200
TZOFFSETTO:+0100
RRULE:FREQ=YEARLY;INTERVAL=1;BYDAY=-1SU;BYMONTH=10
END:STANDARD
BEGIN:DAYLIGHT
DTSTART:16010101T020000
TZOFFSETFROM:+0100
TZOFFSETTO:+0200
RRULE:FREQ=YEARLY;INTERVAL=1;BYDAY=-1SU;BYMONTH=3
END:DAYLIGHT
END:VTIMEZONE
BEGIN:VEVENT
DTEND;TZID=W. Europe Standard Time:20200326T150000
UID:69e4e7b9ea71c
DTSTAMP:20260419T143329Z
LOCATION:Dr Allards Gata 14\, Göteborg
DESCRIPTION:Studiebesöket på Brf Viva senareläggs på grund av coronavir
 uset\, ny inbjudan kommer.
 
URL;VALUE=URI:https://www.gbgbf.se/aktiviteter/brf-viva-200326/
SUMMARY:Brf Viva – för dig som vill bo och leva hållbart
DTSTART;TZID=W. Europe Standard Time:20200326T130000
END:VEVENT
END:VCALENDAR
