BEGIN:VCALENDAR
VERSION:2.0
PRODID:-//hacksw/handcal//NONSGML v1.0//EN
CALSCALE:GREGORIAN
BEGIN:VTIMEZONE
TZID:W. Europe Standard Time
BEGIN:STANDARD
DTSTART:16010101T030000
TZOFFSETFROM:+0200
TZOFFSETTO:+0100
RRULE:FREQ=YEARLY;INTERVAL=1;BYDAY=-1SU;BYMONTH=10
END:STANDARD
BEGIN:DAYLIGHT
DTSTART:16010101T020000
TZOFFSETFROM:+0100
TZOFFSETTO:+0200
RRULE:FREQ=YEARLY;INTERVAL=1;BYDAY=-1SU;BYMONTH=3
END:DAYLIGHT
END:VTIMEZONE
BEGIN:VEVENT
DTEND;TZID=W. Europe Standard Time:20200310T160000
UID:69e4e71a753ae
DTSTAMP:20260419T143050Z
LOCATION:Dr Allards Gata 14\, Göteborg
DESCRIPTION:Guldheden är för många synonymt med grönska\, tillgängligh
 et och bra infrastruktur. Läget\, med bland annat omedelbar närhet till 
 centrum\, Chalmers och Sahlgrenska\, stärker självfallet områdets attra
 ktionskraft. Med Brf Viva vill nu Riksbyggen komplettera med ännu en puss
 elbit – ett ansvarsfullt\, hållbart boende. Välkommen att ta del av al
 la innovationer – både tekniska och sociala.
 
URL;VALUE=URI:https://www.gbgbf.se/aktiviteter/brf-viva/
SUMMARY:Brf Viva – för dig som vill bo och leva hållbart
DTSTART;TZID=W. Europe Standard Time:20200310T140000
END:VEVENT
END:VCALENDAR
