BEGIN:VCALENDAR
VERSION:2.0
PRODID:-//hacksw/handcal//NONSGML v1.0//EN
CALSCALE:GREGORIAN
BEGIN:VTIMEZONE
TZID:W. Europe Standard Time
BEGIN:STANDARD
DTSTART:16010101T030000
TZOFFSETFROM:+0200
TZOFFSETTO:+0100
RRULE:FREQ=YEARLY;INTERVAL=1;BYDAY=-1SU;BYMONTH=10
END:STANDARD
BEGIN:DAYLIGHT
DTSTART:16010101T020000
TZOFFSETFROM:+0100
TZOFFSETTO:+0200
RRULE:FREQ=YEARLY;INTERVAL=1;BYDAY=-1SU;BYMONTH=3
END:DAYLIGHT
END:VTIMEZONE
BEGIN:VEVENT
DTEND;TZID=W. Europe Standard Time:20200416T180000
UID:69e4e884a810b
DTSTAMP:20260419T143652Z
LOCATION:Ekmansgatan 1\, Göteborg
DESCRIPTION:Välkommen att delta i föreningens årsstämma den 16 april kl
  17. Stämman kommer att genomföras via dator eller telefon och med endas
 t ett fåtal deltagare på plats på Ekmansgatan.
 Med tanke på den mycke
 t speciella situationen som just nu råder i vårt samhälle med anledning
  av Corona-viruset kommer vi att senarelägga stipendieutdelning och efter
 följande middag till efter sommaren.
  
 
URL;VALUE=URI:https://www.gbgbf.se/aktiviteter/foreningsstamma-2020/
SUMMARY:Föreningsstämma 2020
DTSTART;TZID=W. Europe Standard Time:20200416T170000
END:VEVENT
END:VCALENDAR
