BEGIN:VCALENDAR
VERSION:2.0
PRODID:-//hacksw/handcal//NONSGML v1.0//EN
CALSCALE:GREGORIAN
BEGIN:VTIMEZONE
TZID:W. Europe Standard Time
BEGIN:STANDARD
DTSTART:16010101T030000
TZOFFSETFROM:+0200
TZOFFSETTO:+0100
RRULE:FREQ=YEARLY;INTERVAL=1;BYDAY=-1SU;BYMONTH=10
END:STANDARD
BEGIN:DAYLIGHT
DTSTART:16010101T020000
TZOFFSETFROM:+0100
TZOFFSETTO:+0200
RRULE:FREQ=YEARLY;INTERVAL=1;BYDAY=-1SU;BYMONTH=3
END:DAYLIGHT
END:VTIMEZONE
BEGIN:VEVENT
DTEND;TZID=W. Europe Standard Time:20200123T123000
UID:69e4e7cedaa00
DTSTAMP:20260419T143350Z
LOCATION:Sven Hultins plats 5\, Göteborg
DESCRIPTION:Kontorshuset A Working Lab på Chalmersområdet är en smart by
 ggnad\, en arena för idé- och kunskapsutbyte mellan akademi\, näringsli
 v och samhälle. Byggnaden är unik eftersom den redan under byggnationen 
 var en testbädd för flera spännande och viktiga innovationsprojekt\, ex
 empelvis energismarta lösningar\, gröna multifunktionella ytor samt lär
 andemiljöer - något av en stimulerande utmaning för alla inblandade par
 ter! Vill du veta mer om A Working Lab så bjuder Byggmästareförening in
  dig i ”framtiden” … till Chalmers torsdagen den 23 januari 2020.
 
URL;VALUE=URI:https://www.gbgbf.se/aktiviteter/a-working-lab/
SUMMARY:A Working Lab – innovationsprojekt + byggprojekt = framtidens sma
 rta kontor
DTSTART;TZID=W. Europe Standard Time:20200123T110000
END:VEVENT
END:VCALENDAR
