BEGIN:VCALENDAR
VERSION:2.0
PRODID:-//hacksw/handcal//NONSGML v1.0//EN
CALSCALE:GREGORIAN
BEGIN:VTIMEZONE
TZID:W. Europe Standard Time
BEGIN:STANDARD
DTSTART:16010101T030000
TZOFFSETFROM:+0200
TZOFFSETTO:+0100
RRULE:FREQ=YEARLY;INTERVAL=1;BYDAY=-1SU;BYMONTH=10
END:STANDARD
BEGIN:DAYLIGHT
DTSTART:16010101T020000
TZOFFSETFROM:+0100
TZOFFSETTO:+0200
RRULE:FREQ=YEARLY;INTERVAL=1;BYDAY=-1SU;BYMONTH=3
END:DAYLIGHT
END:VTIMEZONE
BEGIN:VEVENT
DTEND;TZID=W. Europe Standard Time:20190611T150000
UID:69e4e7e9bdcfa
DTSTAMP:20260419T143417Z
LOCATION:Züblins platskontor på Marieholmsgatan 24\, Göteborg
DESCRIPTION:Den totalt 500 meter långa Marieholmstunneln öppnar för traf
 ik i december 2020\, men redan nu bjuder Züblin Göteborgs Byggmästaref
 örenings medlemmar till ett högintressant studiebesök på det spektakul
 ära projektet\, mitt i händelsernas centrum och en viktig del av framtid
 ens Göteborg. Något att berätta för grannarna i sommar.
 
URL;VALUE=URI:https://www.gbgbf.se/aktiviteter/marieholmstunneln-oppnar-for
 -dig-den-11-juni/
SUMMARY:Marieholmstunneln öppnar för dig
DTSTART;TZID=W. Europe Standard Time:20190611T130000
END:VEVENT
END:VCALENDAR
