BEGIN:VCALENDAR
VERSION:2.0
PRODID:-//hacksw/handcal//NONSGML v1.0//EN
CALSCALE:GREGORIAN
BEGIN:VTIMEZONE
TZID:W. Europe Standard Time
BEGIN:STANDARD
DTSTART:16010101T030000
TZOFFSETFROM:+0200
TZOFFSETTO:+0100
RRULE:FREQ=YEARLY;INTERVAL=1;BYDAY=-1SU;BYMONTH=10
END:STANDARD
BEGIN:DAYLIGHT
DTSTART:16010101T020000
TZOFFSETFROM:+0100
TZOFFSETTO:+0200
RRULE:FREQ=YEARLY;INTERVAL=1;BYDAY=-1SU;BYMONTH=3
END:DAYLIGHT
END:VTIMEZONE
BEGIN:VEVENT
DTEND;TZID=W. Europe Standard Time:20181127T220000
UID:69e4e86af1d71
DTSTAMP:20260419T143626Z
LOCATION:Ekmansgatan 1\, Göteborg
DESCRIPTION:Sveriges Byggindustrier och Göteborgs Byggmästareförening bj
 uder in till mingel för studenter och byggare. Nätverka samt ta del av 
 inspirerande branschpresentationer. Få svar på dina frågor kring framti
 dsutsikter inom bygg och anläggning. Lär dig mer om alla spännande roll
 er inom samhällsbyggnadssektorn. Låt dig förföras av en välsmakande b
 uffé.
 
URL;VALUE=URI:https://www.gbgbf.se/aktiviteter/mingel-for-studenter-och-byg
 gare/
SUMMARY:Mingel för studenter och byggare
DTSTART;TZID=W. Europe Standard Time:20181127T180000
END:VEVENT
END:VCALENDAR
